BEGIN:VCALENDAR
VERSION:2.0
PRODID:-//Tukios.com/
BEGIN:VEVENT
UID:04bc7526-fdd8-4663-b853-3109e8ab70f5@www.gordenfuneral.com
DTSTAMP:20260424T182412Z
DTSTART:20260530T150000Z
DTEND:20260530T160000Z
SUMMARY:Celebration of Life
DESCRIPTION:
URL:https://www.gordenfuneral.com/obituaries/eugene-detweiler
LOCATION: 1290 32nd Street  Allegan MI 49010
GEO:42.5141486;-85.8625413
END:VEVENT
END:VCALENDAR