BEGIN:VCALENDAR
VERSION:2.0
PRODID:-//Tukios.com/
BEGIN:VEVENT
UID:106ab7c6-a85c-4a0f-8ddd-38f822453efc@www.gordenfuneral.com
DTSTAMP:20260422T191316Z
DTSTART:20260516T190000Z
DTEND:20260516T210000Z
SUMMARY:Celebration of Life
DESCRIPTION:
URL:https://www.gordenfuneral.com/obituaries/dennis-tooker
LOCATION:Vitale's of Allegan 320 Western Ave  Allegan MI 49010
GEO:42.52868;-85.8645164
END:VEVENT
END:VCALENDAR